BEGIN:VCALENDAR
VERSION:2.0
PRODID:-//Dolenjski muzej - ECPv6.15.18//NONSGML v1.0//EN
CALSCALE:GREGORIAN
METHOD:PUBLISH
X-ORIGINAL-URL:https://www.dolenjskimuzej.si
X-WR-CALDESC:Dogodki za Dolenjski muzej
REFRESH-INTERVAL;VALUE=DURATION:PT1H
X-Robots-Tag:noindex
X-PUBLISHED-TTL:PT1H
BEGIN:VTIMEZONE
TZID:Europe/Ljubljana
BEGIN:DAYLIGHT
TZOFFSETFROM:+0100
TZOFFSETTO:+0200
TZNAME:CEST
DTSTART:20230326T010000
END:DAYLIGHT
BEGIN:STANDARD
TZOFFSETFROM:+0200
TZOFFSETTO:+0100
TZNAME:CET
DTSTART:20231029T010000
END:STANDARD
BEGIN:DAYLIGHT
TZOFFSETFROM:+0100
TZOFFSETTO:+0200
TZNAME:CEST
DTSTART:20240331T010000
END:DAYLIGHT
BEGIN:STANDARD
TZOFFSETFROM:+0200
TZOFFSETTO:+0100
TZNAME:CET
DTSTART:20241027T010000
END:STANDARD
BEGIN:DAYLIGHT
TZOFFSETFROM:+0100
TZOFFSETTO:+0200
TZNAME:CEST
DTSTART:20250330T010000
END:DAYLIGHT
BEGIN:STANDARD
TZOFFSETFROM:+0200
TZOFFSETTO:+0100
TZNAME:CET
DTSTART:20251026T010000
END:STANDARD
END:VTIMEZONE
BEGIN:VEVENT
DTSTART;TZID=Europe/Ljubljana:20240921T100000
DTEND;TZID=Europe/Ljubljana:20240921T120000
DTSTAMP:20260422T071203
CREATED:20240910T123432Z
LAST-MODIFIED:20240910T123548Z
UID:12576-1726912800-1726920000@www.dolenjskimuzej.si
SUMMARY:Maja Poljanc Hortus conclusus / voden ogled razstave in delavnica
DESCRIPTION:Ob razstavi ilustratorke MAJE POLJANC\nvabimo\nna voden ogled razstave ter na sobotno delavnico z naslovom Slovenske basni. \nV soboto\, 21. septembra 2024\, od 10. do 12. ure\nv Jakčev dom Dolenjskega muzeja. \nVoden ogled razstave je namenjen splošni javnosti. Po razstavi bo vodila kustosinja Katarina Dajčman.\nDelavnica vključuje ogled kratkih animiranih filmov in spoznavanje njihovih likov s pobarvankami in je namenjena tako mlajšim kot starejšim udeležencem. Delavnico bo vodila muzejska pedagoginja in andragoginja Lavra Fabjan.
URL:https://www.dolenjskimuzej.si/dogodek/maja-poljanc-hortus-conclusus-voden-ogled-razstave-in-delavnica/
CATEGORIES:Delavnica,Javno vodstvo,Prost vstop
ATTACH;FMTTYPE=image/jpeg:https://www.dolenjskimuzej.si/wp-content/uploads/2024/06/MAJA_POLJANC_E_vabilo_detajl_1.jpg
END:VEVENT
END:VCALENDAR