BEGIN:VCALENDAR
VERSION:2.0
PRODID:-//Dolenjski muzej - ECPv6.15.18//NONSGML v1.0//EN
CALSCALE:GREGORIAN
METHOD:PUBLISH
X-ORIGINAL-URL:https://www.dolenjskimuzej.si
X-WR-CALDESC:Dogodki za Dolenjski muzej
REFRESH-INTERVAL;VALUE=DURATION:PT1H
X-Robots-Tag:noindex
X-PUBLISHED-TTL:PT1H
BEGIN:VTIMEZONE
TZID:Europe/Ljubljana
BEGIN:DAYLIGHT
TZOFFSETFROM:+0100
TZOFFSETTO:+0200
TZNAME:CEST
DTSTART:20240331T010000
END:DAYLIGHT
BEGIN:STANDARD
TZOFFSETFROM:+0200
TZOFFSETTO:+0100
TZNAME:CET
DTSTART:20241027T010000
END:STANDARD
BEGIN:DAYLIGHT
TZOFFSETFROM:+0100
TZOFFSETTO:+0200
TZNAME:CEST
DTSTART:20250330T010000
END:DAYLIGHT
BEGIN:STANDARD
TZOFFSETFROM:+0200
TZOFFSETTO:+0100
TZNAME:CET
DTSTART:20251026T010000
END:STANDARD
BEGIN:DAYLIGHT
TZOFFSETFROM:+0100
TZOFFSETTO:+0200
TZNAME:CEST
DTSTART:20260329T010000
END:DAYLIGHT
BEGIN:STANDARD
TZOFFSETFROM:+0200
TZOFFSETTO:+0100
TZNAME:CET
DTSTART:20261025T010000
END:STANDARD
END:VTIMEZONE
BEGIN:VEVENT
DTSTART;TZID=Europe/Ljubljana:20250218T090000
DTEND;TZID=Europe/Ljubljana:20250218T110000
DTSTAMP:20260422T003252
CREATED:20250214T083719Z
LAST-MODIFIED:20250214T084257Z
UID:12881-1739869200-1739876400@www.dolenjskimuzej.si
SUMMARY:Muzejska počitniška delavnica
DESCRIPTION:Muzejska počitniška delavnica za otroke\nPOLSTENO MILO\n9.00 – 11. 00 \nProsimo\, da se za obisk predhodno prijavite na e-naslov lavra.fabjan@dolenjskimuzej.si \nCena posamezne delavnice znaša 3\,50 EUR\, s potrjenimi muzejskimi izkaznicami za šolsko leto 2024/2025 je vstop prost.
URL:https://www.dolenjskimuzej.si/dogodek/muzejske-pocitniske-delavnice/
CATEGORIES:Delavnica
END:VEVENT
BEGIN:VEVENT
DTSTART;TZID=Europe/Ljubljana:20250219T090000
DTEND;TZID=Europe/Ljubljana:20250219T110000
DTSTAMP:20260422T003252
CREATED:20250214T083939Z
LAST-MODIFIED:20250214T084102Z
UID:12882-1739955600-1739962800@www.dolenjskimuzej.si
SUMMARY:Muzejska počitniška delavnica
DESCRIPTION:Muzejska počitniška delavnica za otroke\nKOPIJA ZLATEGA DIADEMA\n9.00 – 11. 00 \nProsimo\, da se za obisk predhodno prijavite na e-naslov lavra.fabjan@dolenjskimuzej.si \nCena posamezne delavnice znaša 3\,50 EUR\, s potrjenimi muzejskimi izkaznicami za šolsko leto 2024/2025 je vstop prost.
URL:https://www.dolenjskimuzej.si/dogodek/12882/
CATEGORIES:Delavnica
END:VEVENT
BEGIN:VEVENT
DTSTART;TZID=Europe/Ljubljana:20250220T090000
DTEND;TZID=Europe/Ljubljana:20250220T110000
DTSTAMP:20260422T003252
CREATED:20250214T084210Z
LAST-MODIFIED:20250214T084210Z
UID:12885-1740042000-1740049200@www.dolenjskimuzej.si
SUMMARY:Muzejska počitniška delavnica
DESCRIPTION:Muzejska počitniška delavnica za otroke\nTETRA PAK GRAFIKA\n9.00 – 11. 00 \nProsimo\, da se za obisk predhodno prijavite na e-naslov lavra.fabjan@dolenjskimuzej.si \nCena posamezne delavnice znaša 3\,50 EUR\, s potrjenimi muzejskimi izkaznicami za šolsko leto 2024/2025 je vstop prost.
URL:https://www.dolenjskimuzej.si/dogodek/muzejska-pocitniska-delavnica/
CATEGORIES:Delavnica
END:VEVENT
END:VCALENDAR