BEGIN:VCALENDAR
VERSION:2.0
PRODID:-//Dolenjski muzej - ECPv6.15.18//NONSGML v1.0//EN
CALSCALE:GREGORIAN
METHOD:PUBLISH
X-WR-CALNAME:Dolenjski muzej
X-ORIGINAL-URL:https://www.dolenjskimuzej.si
X-WR-CALDESC:Dogodki za Dolenjski muzej
REFRESH-INTERVAL;VALUE=DURATION:PT1H
X-Robots-Tag:noindex
X-PUBLISHED-TTL:PT1H
BEGIN:VTIMEZONE
TZID:Europe/Ljubljana
BEGIN:DAYLIGHT
TZOFFSETFROM:+0100
TZOFFSETTO:+0200
TZNAME:CEST
DTSTART:20240331T010000
END:DAYLIGHT
BEGIN:STANDARD
TZOFFSETFROM:+0200
TZOFFSETTO:+0100
TZNAME:CET
DTSTART:20241027T010000
END:STANDARD
BEGIN:DAYLIGHT
TZOFFSETFROM:+0100
TZOFFSETTO:+0200
TZNAME:CEST
DTSTART:20250330T010000
END:DAYLIGHT
BEGIN:STANDARD
TZOFFSETFROM:+0200
TZOFFSETTO:+0100
TZNAME:CET
DTSTART:20251026T010000
END:STANDARD
BEGIN:DAYLIGHT
TZOFFSETFROM:+0100
TZOFFSETTO:+0200
TZNAME:CEST
DTSTART:20260329T010000
END:DAYLIGHT
BEGIN:STANDARD
TZOFFSETFROM:+0200
TZOFFSETTO:+0100
TZNAME:CET
DTSTART:20261025T010000
END:STANDARD
END:VTIMEZONE
BEGIN:VEVENT
DTSTART;TZID=Europe/Ljubljana:20250514T170000
DTEND;TZID=Europe/Ljubljana:20250514T190000
DTSTAMP:20260421T204124
CREATED:20250511T132252Z
LAST-MODIFIED:20250511T132252Z
UID:13098-1747242000-1747249200@www.dolenjskimuzej.si
SUMMARY:Ustvarjalne delavnice z obdelavo stekla
DESCRIPTION:Pridružite se nam na treh ustvarjalnih delavnicah\, kjer bo steklo postalo vaše platno. Spoznali boste čarobni svet stekla in njegove umetniške možnosti.\nDelavnice so namenjene vsem — začetnikom\, radovednežem in tudi tistim z nekaj izkušnjami. V sproščenem in varnem okolju boste pod strokovnim vodstvom ustvarili svoje lastne steklene izdelke — od unikatnega nakita\, okraskov\, do majhnih umetniških objektov. Vsaka delavnica je zasnovana tako\, da spodbuja ustvarjalnost\, razvija ročne spretnosti in ponuja priložnost za sprostitev ter stik z umetnostjo. \nDelavnice bodo potekale od 17.00 do 19.00 po naslednjem urniku:\n⭐️14. 5. 2025 Fuzija stekla — tehnika spajanja barvnih koščkov stekla pri visoki temperaturi in ustvarjanja unikatne dekoracije\, nakita ali okraskov.\n⭐️21. 5. 2025 Risanje na steklo — ustvarjanje z barvami za steklo pisanih motivov na kozarcih\, steklenih ploščicah ali okvirjih.\n⭐️28. 5. 2025 Graviranje na steklo — ustvarjanje z gravirnim orodjem elegantnih vzorcev\, napisov ali motivov na steklenih predmetih. \nCena posamezne delavnice je 20 eur\, dveh 30 eur in treh 35 eur. Vsi materiali vključeni. Število mest je omejeno\, zato prijave sprejemamo na dolenjski.muzej@dolenjskimuzej.si. Podrobnejša navodila prejmete ob prijavi. Delavnice vodi Lorena lgnaz.
URL:https://www.dolenjskimuzej.si/dogodek/ustvarjalne-delavnice-z-obdelavo-stekla/
CATEGORIES:Delavnica
END:VEVENT
BEGIN:VEVENT
DTSTART;TZID=Europe/Ljubljana:20250521T170000
DTEND;TZID=Europe/Ljubljana:20250521T190000
DTSTAMP:20260421T204124
CREATED:20250520T085531Z
LAST-MODIFIED:20250520T085837Z
UID:13104-1747846800-1747854000@www.dolenjskimuzej.si
SUMMARY:Ustvarjalna delavnica z obdelavo stekla
DESCRIPTION:Pridružite se nam na treh ustvarjalnih delavnicah\, kjer bo steklo postalo vaše platno. Spoznali boste čarobni svet stekla in njegove umetniške možnosti.\nDelavnice so namenjene vsem — začetnikom\, radovednežem in tudi tistim z nekaj izkušnjami. V sproščenem in varnem okolju boste pod strokovnim vodstvom ustvarili svoje lastne steklene izdelke — od unikatnega nakita\, okraskov\, do majhnih umetniških objektov. Vsaka delavnica je zasnovana tako\, da spodbuja ustvarjalnost\, razvija ročne spretnosti in ponuja priložnost za sprostitev ter stik z umetnostjo. \nDelavnice bodo potekale od 17.00 do 19.00 po naslednjem urniku: \n14. 5. 2025 Fuzija stekla — tehnika spajanja barvnih koščkov stekla pri visoki temperaturi in ustvarjanja unikatne dekoracije\, nakita ali okraskov. \n21. 5. 2025 Risanje na steklo — ustvarjanje z barvami za steklo pisanih motivov na kozarcih\, steklenih ploščicah ali okvirjih. \n28. 5. 2025 Graviranje na steklo — ustvarjanje z gravirnim orodjem elegantnih vzorcev\, napisov ali motivov na steklenih predmetih. \nCena posamezne delavnice je 20 eur\, dveh 30 eur in treh 35 eur. Vsi materiali vključeni. Število mest je omejeno\, zato prijave sprejemamo na dolenjski.muzej@dolenjskimuzej.si. Podrobnejša navodila prejmete ob prijavi. Delavnice vodi Lorena lgnaz
URL:https://www.dolenjskimuzej.si/dogodek/ustvarjalna-delavnica-z-obdelavo-stekla/
CATEGORIES:Delavnica
END:VEVENT
BEGIN:VEVENT
DTSTART;TZID=Europe/Ljubljana:20250528T170000
DTEND;TZID=Europe/Ljubljana:20250528T190000
DTSTAMP:20260421T204124
CREATED:20250520T085616Z
LAST-MODIFIED:20250520T085804Z
UID:13105-1748451600-1748458800@www.dolenjskimuzej.si
SUMMARY:Ustvarjalna delavnica z obdelavo stekla
DESCRIPTION:Pridružite se nam na treh ustvarjalnih delavnicah\, kjer bo steklo postalo vaše platno. Spoznali boste čarobni svet stekla in njegove umetniške možnosti.\nDelavnice so namenjene vsem — začetnikom\, radovednežem in tudi tistim z nekaj izkušnjami. V sproščenem in varnem okolju boste pod strokovnim vodstvom ustvarili svoje lastne steklene izdelke — od unikatnega nakita\, okraskov\, do majhnih umetniških objektov. Vsaka delavnica je zasnovana tako\, da spodbuja ustvarjalnost\, razvija ročne spretnosti in ponuja priložnost za sprostitev ter stik z umetnostjo. \nDelavnice bodo potekale od 17.00 do 19.00 po naslednjem urniku: \n14. 5. 2025 Fuzija stekla — tehnika spajanja barvnih koščkov stekla pri visoki temperaturi in ustvarjanja unikatne dekoracije\, nakita ali okraskov. \n21. 5. 2025 Risanje na steklo — ustvarjanje z barvami za steklo pisanih motivov na kozarcih\, steklenih ploščicah ali okvirjih. \n28. 5. 2025 Graviranje na steklo — ustvarjanje z gravirnim orodjem elegantnih vzorcev\, napisov ali motivov na steklenih predmetih. \nCena posamezne delavnice je 20 eur\, dveh 30 eur in treh 35 eur. Vsi materiali vključeni. Število mest je omejeno\, zato prijave sprejemamo na dolenjski.muzej@dolenjskimuzej.si. Podrobnejša navodila prejmete ob prijavi. Delavnice vodi Lorena lgnaz
URL:https://www.dolenjskimuzej.si/dogodek/ustvarjalna-delavnica-z-obdelavo-stekla-2/
CATEGORIES:Delavnica
END:VEVENT
END:VCALENDAR