BEGIN:VCALENDAR
VERSION:2.0
PRODID:-//Dolenjski muzej - ECPv6.15.18//NONSGML v1.0//EN
CALSCALE:GREGORIAN
METHOD:PUBLISH
X-WR-CALNAME:Dolenjski muzej
X-ORIGINAL-URL:https://www.dolenjskimuzej.si
X-WR-CALDESC:Dogodki za Dolenjski muzej
REFRESH-INTERVAL;VALUE=DURATION:PT1H
X-Robots-Tag:noindex
X-PUBLISHED-TTL:PT1H
BEGIN:VTIMEZONE
TZID:Europe/Ljubljana
BEGIN:DAYLIGHT
TZOFFSETFROM:+0100
TZOFFSETTO:+0200
TZNAME:CEST
DTSTART:20240331T010000
END:DAYLIGHT
BEGIN:STANDARD
TZOFFSETFROM:+0200
TZOFFSETTO:+0100
TZNAME:CET
DTSTART:20241027T010000
END:STANDARD
BEGIN:DAYLIGHT
TZOFFSETFROM:+0100
TZOFFSETTO:+0200
TZNAME:CEST
DTSTART:20250330T010000
END:DAYLIGHT
BEGIN:STANDARD
TZOFFSETFROM:+0200
TZOFFSETTO:+0100
TZNAME:CET
DTSTART:20251026T010000
END:STANDARD
BEGIN:DAYLIGHT
TZOFFSETFROM:+0100
TZOFFSETTO:+0200
TZNAME:CEST
DTSTART:20260329T010000
END:DAYLIGHT
BEGIN:STANDARD
TZOFFSETFROM:+0200
TZOFFSETTO:+0100
TZNAME:CET
DTSTART:20261025T010000
END:STANDARD
END:VTIMEZONE
BEGIN:VEVENT
DTSTART;TZID=Europe/Ljubljana:20251119T180000
DTEND;TZID=Europe/Ljubljana:20251119T190000
DTSTAMP:20260421T122346
CREATED:20251113T085315Z
LAST-MODIFIED:20251113T085401Z
UID:13488-1763575200-1763578800@www.dolenjskimuzej.si
SUMMARY:Šolski kemijski laboratorij
DESCRIPTION:V okviru projekta Doživetje stekla vas vabimo na \npredstavitev steklenih predmetov šolskega kemijskega laboratorija in prikaz kemijskih eksperimentov\, ki jih bodo izvedli profesorji in dijaki Gimnazije Novo mesto. \nSreda\, 19. november 2025\, ob 18.00\nStalna razstava novejše zgodovine (NOB). \nVstop je prost.
URL:https://www.dolenjskimuzej.si/dogodek/solski-kemijski-laboratorij/
CATEGORIES:Delavnica,Javno vodstvo,Prost vstop
END:VEVENT
END:VCALENDAR