BEGIN:VCALENDAR
VERSION:2.0
PRODID:-//Dolenjski muzej - ECPv6.15.18//NONSGML v1.0//EN
CALSCALE:GREGORIAN
METHOD:PUBLISH
X-ORIGINAL-URL:https://www.dolenjskimuzej.si
X-WR-CALDESC:Dogodki za Dolenjski muzej
REFRESH-INTERVAL;VALUE=DURATION:PT1H
X-Robots-Tag:noindex
X-PUBLISHED-TTL:PT1H
BEGIN:VTIMEZONE
TZID:Europe/Ljubljana
BEGIN:DAYLIGHT
TZOFFSETFROM:+0100
TZOFFSETTO:+0200
TZNAME:CEST
DTSTART:20240331T010000
END:DAYLIGHT
BEGIN:STANDARD
TZOFFSETFROM:+0200
TZOFFSETTO:+0100
TZNAME:CET
DTSTART:20241027T010000
END:STANDARD
BEGIN:DAYLIGHT
TZOFFSETFROM:+0100
TZOFFSETTO:+0200
TZNAME:CEST
DTSTART:20250330T010000
END:DAYLIGHT
BEGIN:STANDARD
TZOFFSETFROM:+0200
TZOFFSETTO:+0100
TZNAME:CET
DTSTART:20251026T010000
END:STANDARD
BEGIN:DAYLIGHT
TZOFFSETFROM:+0100
TZOFFSETTO:+0200
TZNAME:CEST
DTSTART:20260329T010000
END:DAYLIGHT
BEGIN:STANDARD
TZOFFSETFROM:+0200
TZOFFSETTO:+0100
TZNAME:CET
DTSTART:20261025T010000
END:STANDARD
END:VTIMEZONE
BEGIN:VEVENT
DTSTART;TZID=Europe/Ljubljana:20251203T170000
DTEND;TZID=Europe/Ljubljana:20251203T190000
DTSTAMP:20260421T111002
CREATED:20251119T110937Z
LAST-MODIFIED:20251120T115226Z
UID:13489-1764781200-1764788400@www.dolenjskimuzej.si
SUMMARY:Ta veseli dan kulture v Dolenjskem muzeju
DESCRIPTION:V sklopu projekta Doživetje stekla vas vabimo\, da skupaj z nami preživite TO VESELO POPOLDNE. \n🎄✨ PROGRAM \nMUZEJSKI VRTOVI\n17.00 — Veselo petje otroških pesmi\, ki ga pripravlja zbor Glasbene šole Marjana Kozine\, skupaj z obiskovalci.\n17.15–18.15 — Ustvarjalna delavnica izdelovanja lantern \nMUZEJSKE VITRINE – VODENI OGLEDI\n17.20 — Ko se posveti: Steklena svetila (Ropasova hiša)\, vodi Alenka Stražišar Lamovšek\n17.40 — Okraski za novoletno jelko (avla Galerije)\, vodi Majda Pungerčar\n18.00 — Za zdravje gre! (Stalna razstava novejše zgodovine — NOB)\, vodi Marjeta Bregar \n🌟 ZAKLJUČNI DEL\n18.20 — Sprehod z lanternami po novomeških ulicah\n18.45 — Zaključek pred mestno hišo na Glavnem trgu \nVSTOP JE PROST!\nPridružite se nam in skupaj obarvajmo praznični december s svetlobo\, pesmijo in druženjem.
URL:https://www.dolenjskimuzej.si/dogodek/ta-veseli-dan-kulture-v-dolenjskem-muzeju-2/
CATEGORIES:Delavnica,Javno vodstvo,Prost vstop
END:VEVENT
END:VCALENDAR