BEGIN:VCALENDAR
VERSION:2.0
PRODID:-//Dolenjski muzej - ECPv6.15.18//NONSGML v1.0//EN
CALSCALE:GREGORIAN
METHOD:PUBLISH
X-ORIGINAL-URL:https://www.dolenjskimuzej.si
X-WR-CALDESC:Dogodki za Dolenjski muzej
REFRESH-INTERVAL;VALUE=DURATION:PT1H
X-Robots-Tag:noindex
X-PUBLISHED-TTL:PT1H
BEGIN:VTIMEZONE
TZID:Europe/Ljubljana
BEGIN:DAYLIGHT
TZOFFSETFROM:+0100
TZOFFSETTO:+0200
TZNAME:CEST
DTSTART:20250330T010000
END:DAYLIGHT
BEGIN:STANDARD
TZOFFSETFROM:+0200
TZOFFSETTO:+0100
TZNAME:CET
DTSTART:20251026T010000
END:STANDARD
BEGIN:DAYLIGHT
TZOFFSETFROM:+0100
TZOFFSETTO:+0200
TZNAME:CEST
DTSTART:20260329T010000
END:DAYLIGHT
BEGIN:STANDARD
TZOFFSETFROM:+0200
TZOFFSETTO:+0100
TZNAME:CET
DTSTART:20261025T010000
END:STANDARD
BEGIN:DAYLIGHT
TZOFFSETFROM:+0100
TZOFFSETTO:+0200
TZNAME:CEST
DTSTART:20270328T010000
END:DAYLIGHT
BEGIN:STANDARD
TZOFFSETFROM:+0200
TZOFFSETTO:+0100
TZNAME:CET
DTSTART:20271031T010000
END:STANDARD
END:VTIMEZONE
BEGIN:VEVENT
DTSTART;TZID=Europe/Ljubljana:20260309T170000
DTEND;TZID=Europe/Ljubljana:20260309T183000
DTSTAMP:20260423T221533
CREATED:20260220T075049Z
LAST-MODIFIED:20260220T075313Z
UID:13542-1773075600-1773081000@www.dolenjskimuzej.si
SUMMARY:Spominska razstava ob 170. letnici prof. Ferdinanda Seidla
DESCRIPTION:Ob 170. letnici rojstva\nprof. Ferdinanda Seidla (1856-1942)\,\nNovomeščana\, naravoslovca in akademika\,\nvas vljudno vabimo na spominski večer z odprtjem razstave. \nPonedeljek\, 9. marec 2026\, ob 17. uri. \nPredavalnica Dolenjskega muzeja. \nNa dogodku bodo sodelovali: \nMarjeta Bregar: Biografske črtice prof. Seidla\nAndrej Hudoklin: Prvi moderni slovenski naravoslovec in Dolenjska\nTone Andrejčič: Ferdinand Seidl in planinsko društvo Novo mesto \nRazstava bo na ogled do 24. maja 2026.
URL:https://www.dolenjskimuzej.si/dogodek/spominska-razstava-ob-170-letnici-prof-ferdinanda-seidla/
CATEGORIES:Predavanje,Prost vstop,Razstave
ATTACH;FMTTYPE=image/jpeg:https://www.dolenjskimuzej.si/wp-content/uploads/2026/02/tablet0.jpg
END:VEVENT
END:VCALENDAR