BEGIN:VCALENDAR
VERSION:2.0
PRODID:-//Dolenjski muzej - ECPv6.15.18//NONSGML v1.0//EN
CALSCALE:GREGORIAN
METHOD:PUBLISH
X-ORIGINAL-URL:https://www.dolenjskimuzej.si
X-WR-CALDESC:Dogodki za Dolenjski muzej
REFRESH-INTERVAL;VALUE=DURATION:PT1H
X-Robots-Tag:noindex
X-PUBLISHED-TTL:PT1H
BEGIN:VTIMEZONE
TZID:Europe/Ljubljana
BEGIN:DAYLIGHT
TZOFFSETFROM:+0100
TZOFFSETTO:+0200
TZNAME:CEST
DTSTART:20250330T010000
END:DAYLIGHT
BEGIN:STANDARD
TZOFFSETFROM:+0200
TZOFFSETTO:+0100
TZNAME:CET
DTSTART:20251026T010000
END:STANDARD
BEGIN:DAYLIGHT
TZOFFSETFROM:+0100
TZOFFSETTO:+0200
TZNAME:CEST
DTSTART:20260329T010000
END:DAYLIGHT
BEGIN:STANDARD
TZOFFSETFROM:+0200
TZOFFSETTO:+0100
TZNAME:CET
DTSTART:20261025T010000
END:STANDARD
BEGIN:DAYLIGHT
TZOFFSETFROM:+0100
TZOFFSETTO:+0200
TZNAME:CEST
DTSTART:20270328T010000
END:DAYLIGHT
BEGIN:STANDARD
TZOFFSETFROM:+0200
TZOFFSETTO:+0100
TZNAME:CET
DTSTART:20271031T010000
END:STANDARD
END:VTIMEZONE
BEGIN:VEVENT
DTSTART;TZID=Europe/Ljubljana:20260508T190000
DTEND;TZID=Europe/Ljubljana:20260508T200000
DTSTAMP:20260421T182728
CREATED:20260408T110327Z
LAST-MODIFIED:20260414T063614Z
UID:13588-1778266800-1778270400@www.dolenjskimuzej.si
SUMMARY:81. obletnica konca 2. svetovne vojne: pogovor z Ilinko Todorovski
DESCRIPTION:Dolenjski muzej Novo mesto\nin\nVojaški muzej Slovenske vojske \nvas ob 81. obletnici konca 2. svetovne vojne\nvabita na pogovor z Ilinko Todorovski\, avtorico knjige \nPo zračnem mostu iz Bele krajine v Dalmacijo. \nEvakuacija civilistov marca 1945. \nPetek\, 8. maj 2026\, ob 19. uri.\nStalna razstava novejše zgodovine (NOB).\nZ avtorico se bo pogovarjal zgodovinar Blaž Štangelj. \nKnjiga o največji zavezniški operaciji med 2. svetovno vojno na ozemlju Slovenije prinaša v drugi\, dopolnjeni izdaji tudi zgodbe evakuiranih družin z Dolenjske. Spomine bodo na dogodku z nami delili potomci ene izmed njih. \nVstop je prost.
URL:https://www.dolenjskimuzej.si/dogodek/81-obletnica-konca-2-svetovne-vojne-pogovor-z-ilinko-todorovski/
CATEGORIES:Predavanje,Prost vstop
END:VEVENT
END:VCALENDAR